BEGIN:VCALENDAR
BEGIN:VEVENT
SUMMARY:Funeral notice for CARR\, Irene Bernadette
DTSTART:20260428T000000
DTEND:20260429T000000
DTSTAMP:20260425T215154Z
UID:6352234
DESCRIPTION:For the Funeral time and location details\, please view the no
 tice on the My Tributes site. (https://www.yarrawongachronicle.com.au/trib
 utes/notice/funeral-notices/carr-irene-bernadette/6352234/)
END:VEVENT
END:VCALENDAR
