BEGIN:VCALENDAR
BEGIN:VEVENT
SUMMARY:Funeral notice for MAHER\, Stephen Patrick
DTSTART:20260422T000000
DTEND:20260423T000000
DTSTAMP:20260421T154751Z
UID:6353431
DESCRIPTION:For the Funeral time and location details\, please view the no
 tice on the My Tributes site. (https://www.yarrawongachronicle.com.au/trib
 utes/notice/funeral-notices/maher-stephen-patrick/6353431/)
END:VEVENT
END:VCALENDAR
