BEGIN:VCALENDAR
BEGIN:VEVENT
SUMMARY:Funeral notice for WHITE\, Beverley Margaret
DTSTART:20260504T000000
DTEND:20260505T000000
DTSTAMP:20260420T194739Z
UID:6353758
DESCRIPTION:For the Funeral time and location details\, please view the no
 tice on the My Tributes site. (https://www.yarrawongachronicle.com.au/trib
 utes/notice/funeral-notices/white-beverley-margaret/6353758/)
END:VEVENT
END:VCALENDAR
