BEGIN:VCALENDAR
BEGIN:VEVENT
SUMMARY:Funeral notice for MCGEECHAN\, Ronald John
DTSTART:20260427T000000
DTEND:20260428T000000
DTSTAMP:20260420T141017Z
UID:6354004
DESCRIPTION:For the Funeral time and location details\, please view the no
 tice on the My Tributes site. (https://www.yarrawongachronicle.com.au/trib
 utes/notice/funeral-notices/mcgeechan-ronald-john/6354004/)
END:VEVENT
END:VCALENDAR
