BEGIN:VCALENDAR
BEGIN:VEVENT
SUMMARY:Funeral notice for DOHERTY\, Margaret Anne 'Marg'
DTSTART:20260421T000000
DTEND:20260422T000000
DTSTAMP:20260421T054734Z
UID:6354010
DESCRIPTION:For the Funeral time and location details\, please view the no
 tice on the My Tributes site. (https://www.yarrawongachronicle.com.au/trib
 utes/notice/funeral-notices/doherty-margaret-anne-marg/6354010/)
END:VEVENT
END:VCALENDAR
