BEGIN:VCALENDAR
BEGIN:VEVENT
SUMMARY:Funeral notice for MCDONNELL\, Scott (Scotty Mac)
DTSTART:20260424T000000
DTEND:20260425T000000
DTSTAMP:20260420T093208Z
UID:6354033
DESCRIPTION:For the Funeral time and location details\, please view the no
 tice on the My Tributes site. (https://www.yarrawongachronicle.com.au/trib
 utes/notice/funeral-notices/mcdonnell-scott-scotty-mac/6354033/)
END:VEVENT
END:VCALENDAR
