BEGIN:VCALENDAR
BEGIN:VEVENT
SUMMARY:Funeral notice for WALKER\, Graham John
DTSTART:20260424T000000
DTEND:20260425T000000
DTSTAMP:20260422T223156Z
UID:6354058
DESCRIPTION:For the Funeral time and location details\, please view the no
 tice on the My Tributes site. (https://www.yarrawongachronicle.com.au/trib
 utes/notice/funeral-notices/walker-graham-john/6354058/)
END:VEVENT
END:VCALENDAR
