BEGIN:VCALENDAR
BEGIN:VEVENT
SUMMARY:Funeral notice for FRIDD\, Sideny Herbert 'Sid'
DTSTART:20260421T000000
DTEND:20260422T000000
DTSTAMP:20260419T223803Z
UID:6354129
DESCRIPTION:For the Funeral time and location details\, please view the no
 tice on the My Tributes site. (https://www.yarrawongachronicle.com.au/trib
 utes/notice/funeral-notices/fridd-sideny-herbert-sid/6354129/)
END:VEVENT
END:VCALENDAR
