BEGIN:VCALENDAR
BEGIN:VEVENT
SUMMARY:Funeral notice for O'BRIEN\, Hugh Joseph
DTSTART:20260423T000000
DTEND:20260424T000000
DTSTAMP:20260421T155147Z
UID:6354132
DESCRIPTION:For the Funeral time and location details\, please view the no
 tice on the My Tributes site. (https://www.yarrawongachronicle.com.au/trib
 utes/notice/funeral-notices/obrien-hugh-joseph/6354132/)
END:VEVENT
END:VCALENDAR
