BEGIN:VCALENDAR
BEGIN:VEVENT
SUMMARY:Funeral notice for ASHWORTH (NEE HIRD)\, Barbara Jeane
DTSTART:20260422T000000
DTEND:20260423T000000
DTSTAMP:20260420T105837Z
UID:6354139
DESCRIPTION:For the Funeral time and location details\, please view the no
 tice on the My Tributes site. (https://www.yarrawongachronicle.com.au/trib
 utes/notice/funeral-notices/ashworth-nee-hird-barbara-jeane/6354139/)
END:VEVENT
END:VCALENDAR
