BEGIN:VCALENDAR
BEGIN:VEVENT
SUMMARY:Funeral notice for PRICE\, Robert Gareth
DTSTART:20260422T000000
DTEND:20260423T000000
DTSTAMP:20260421T043141Z
UID:6354220
DESCRIPTION:For the Funeral time and location details\, please view the no
 tice on the My Tributes site. (https://www.yarrawongachronicle.com.au/trib
 utes/notice/funeral-notices/price-robert-gareth/6354220/)
END:VEVENT
END:VCALENDAR
