BEGIN:VCALENDAR
BEGIN:VEVENT
SUMMARY:Funeral notice for KEELAN\, Maureen Veronica
DTSTART:20260418T000000
DTEND:20260419T000000
DTSTAMP:20260422T162845Z
UID:6354228
DESCRIPTION:For the Funeral time and location details\, please view the no
 tice on the My Tributes site. (https://www.yarrawongachronicle.com.au/trib
 utes/notice/funeral-notices/keelan-maureen-veronica/6354228/)
END:VEVENT
END:VCALENDAR
