BEGIN:VCALENDAR
BEGIN:VEVENT
SUMMARY:Funeral notice for LAMING\, Geoffrey Robert
DTSTART:20260427T000000
DTEND:20260428T000000
DTSTAMP:20260421T062157Z
UID:6354241
DESCRIPTION:For the Funeral time and location details\, please view the no
 tice on the My Tributes site. (https://www.yarrawongachronicle.com.au/trib
 utes/notice/funeral-notices/laming-geoffrey-robert/6354241/)
END:VEVENT
END:VCALENDAR
