BEGIN:VCALENDAR
BEGIN:VEVENT
SUMMARY:Funeral notice for HARPER\, Laurel Roberta
DTSTART:20260423T000000
DTEND:20260424T000000
DTSTAMP:20260422T205731Z
UID:6354260
DESCRIPTION:For the Funeral time and location details\, please view the no
 tice on the My Tributes site. (https://www.yarrawongachronicle.com.au/trib
 utes/notice/funeral-notices/harper-laurel-roberta/6354260/)
END:VEVENT
END:VCALENDAR
