BEGIN:VCALENDAR
BEGIN:VEVENT
SUMMARY:Funeral notice for PRICE\, Robert Gareth
DTSTART:20260424T000000
DTEND:20260425T000000
DTSTAMP:20260421T033748Z
UID:6354261
DESCRIPTION:For the Funeral time and location details\, please view the no
 tice on the My Tributes site. (https://www.yarrawongachronicle.com.au/trib
 utes/notice/funeral-notices/price-robert-gareth/6354261/)
END:VEVENT
END:VCALENDAR
