BEGIN:VCALENDAR
BEGIN:VEVENT
SUMMARY:Funeral notice for WATTS\, Michael George
DTSTART:20260423T000000
DTEND:20260424T000000
DTSTAMP:20260422T060851Z
UID:6354281
DESCRIPTION:For the Funeral time and location details\, please view the no
 tice on the My Tributes site. (https://www.yarrawongachronicle.com.au/trib
 utes/notice/funeral-notices/watts-michael-george/6354281/)
END:VEVENT
END:VCALENDAR
