BEGIN:VCALENDAR
BEGIN:VEVENT
SUMMARY:Funeral notice for EGAN NEE BARDOLPH\, Anne Isobel
DTSTART:20260422T000000
DTEND:20260423T000000
DTSTAMP:20260420T154843Z
UID:6354307
DESCRIPTION:For the Funeral time and location details\, please view the no
 tice on the My Tributes site. (https://www.yarrawongachronicle.com.au/trib
 utes/notice/funeral-notices/egan-nee-bardolph-anne-isobel/6354307/)
END:VEVENT
END:VCALENDAR
