BEGIN:VCALENDAR
BEGIN:VEVENT
SUMMARY:Funeral notice for LEES\, Norman Edward
DTSTART:20260424T000000
DTEND:20260425T000000
DTSTAMP:20260421T155020Z
UID:6354341
DESCRIPTION:For the Funeral time and location details\, please view the no
 tice on the My Tributes site. (https://www.yarrawongachronicle.com.au/trib
 utes/notice/funeral-notices/lees-norman-edward/6354341/)
END:VEVENT
END:VCALENDAR
