BEGIN:VCALENDAR
BEGIN:VEVENT
SUMMARY:Funeral notice for PRICE\, Trevor
DTSTART:20260429T000000
DTEND:20260430T000000
DTSTAMP:20260420T141341Z
UID:6354344
DESCRIPTION:For the Funeral time and location details\, please view the no
 tice on the My Tributes site. (https://www.yarrawongachronicle.com.au/trib
 utes/notice/funeral-notices/price-trevor/6354344/)
END:VEVENT
END:VCALENDAR
