BEGIN:VCALENDAR
BEGIN:VEVENT
SUMMARY:Funeral notice for MCKEIVER\, Wayne Geoffrey
DTSTART:20260424T000000
DTEND:20260425T000000
DTSTAMP:20260421T033818Z
UID:6354355
DESCRIPTION:For the Funeral time and location details\, please view the no
 tice on the My Tributes site. (https://www.yarrawongachronicle.com.au/trib
 utes/notice/funeral-notices/mckeiver-wayne-geoffrey/6354355/)
END:VEVENT
END:VCALENDAR
