BEGIN:VCALENDAR
BEGIN:VEVENT
SUMMARY:Funeral notice for WALLIS\, Norma June
DTSTART:20260427T000000
DTEND:20260428T000000
DTSTAMP:20260420T214810Z
UID:6354356
DESCRIPTION:For the Funeral time and location details\, please view the no
 tice on the My Tributes site. (https://www.yarrawongachronicle.com.au/trib
 utes/notice/funeral-notices/wallis-norma-june/6354356/)
END:VEVENT
END:VCALENDAR
