BEGIN:VCALENDAR
BEGIN:VEVENT
SUMMARY:Funeral notice for BARNES\, Peter Vaughan
DTSTART:20260420T000000
DTEND:20260421T000000
DTSTAMP:20260419T222258Z
UID:6354370
DESCRIPTION:For the Funeral time and location details\, please view the no
 tice on the My Tributes site. (https://www.yarrawongachronicle.com.au/trib
 utes/notice/funeral-notices/barnes-peter-vaughan/6354370/)
END:VEVENT
END:VCALENDAR
