BEGIN:VCALENDAR
BEGIN:VEVENT
SUMMARY:Funeral notice for GORDON\, Rodney James
DTSTART:20260422T000000
DTEND:20260423T000000
DTSTAMP:20260419T224820Z
UID:6354377
DESCRIPTION:For the Funeral time and location details\, please view the no
 tice on the My Tributes site. (https://www.yarrawongachronicle.com.au/trib
 utes/notice/funeral-notices/gordon-rodney-james/6354377/)
END:VEVENT
END:VCALENDAR
