BEGIN:VCALENDAR
BEGIN:VEVENT
SUMMARY:Funeral notice for MURRAY\, Mary Ellen
DTSTART:20260501T000000
DTEND:20260502T000000
DTSTAMP:20260420T154603Z
UID:6354380
DESCRIPTION:For the Funeral time and location details\, please view the no
 tice on the My Tributes site. (https://www.yarrawongachronicle.com.au/trib
 utes/notice/funeral-notices/murray-mary-ellen/6354380/)
END:VEVENT
END:VCALENDAR
