BEGIN:VCALENDAR
BEGIN:VEVENT
SUMMARY:Funeral notice for EARLE\, Maxine Elsie
DTSTART:20260428T000000
DTEND:20260429T000000
DTSTAMP:20260420T154646Z
UID:6354450
DESCRIPTION:For the Funeral time and location details\, please view the no
 tice on the My Tributes site. (https://www.yarrawongachronicle.com.au/trib
 utes/notice/funeral-notices/earle-maxine-elsie/6354450/)
END:VEVENT
END:VCALENDAR
