BEGIN:VCALENDAR
BEGIN:VEVENT
SUMMARY:Funeral notice for MARKS\, Wesley David "Wes"
DTSTART:20260420T000000
DTEND:20260421T000000
DTSTAMP:20260423T185647Z
UID:6354454
DESCRIPTION:For the Funeral time and location details\, please view the no
 tice on the My Tributes site. (https://www.yarrawongachronicle.com.au/trib
 utes/notice/funeral-notices/marks-wesley-david-wes/6354454/)
END:VEVENT
END:VCALENDAR
