BEGIN:VCALENDAR
BEGIN:VEVENT
SUMMARY:Funeral notice for PARKER\, Helen Louise
DTSTART:20260424T000000
DTEND:20260425T000000
DTSTAMP:20260420T124247Z
UID:6354476
DESCRIPTION:For the Funeral time and location details\, please view the no
 tice on the My Tributes site. (https://www.yarrawongachronicle.com.au/trib
 utes/notice/funeral-notices/parker-helen-louise/6354476/)
END:VEVENT
END:VCALENDAR
