BEGIN:VCALENDAR
BEGIN:VEVENT
SUMMARY:Funeral notice for WALLER\, Stanley
DTSTART:20260422T000000
DTEND:20260423T000000
DTSTAMP:20260420T000315Z
UID:6354481
DESCRIPTION:For the Funeral time and location details\, please view the no
 tice on the My Tributes site. (https://www.yarrawongachronicle.com.au/trib
 utes/notice/funeral-notices/waller-stanley/6354481/)
END:VEVENT
END:VCALENDAR
