BEGIN:VCALENDAR
BEGIN:VEVENT
SUMMARY:Funeral notice for VASSALLO\, Mary Therese
DTSTART:20260422T000000
DTEND:20260423T000000
DTSTAMP:20260420T012225Z
UID:6354535
DESCRIPTION:For the Funeral time and location details\, please view the no
 tice on the My Tributes site. (https://www.yarrawongachronicle.com.au/trib
 utes/notice/funeral-notices/vassallo-mary-therese/6354535/)
END:VEVENT
END:VCALENDAR
