BEGIN:VCALENDAR
BEGIN:VEVENT
SUMMARY:Funeral notice for DE VRIES\, Frans
DTSTART:20260424T000000
DTEND:20260425T000000
DTSTAMP:20260420T225548Z
UID:6354542
DESCRIPTION:For the Funeral time and location details\, please view the no
 tice on the My Tributes site. (https://www.yarrawongachronicle.com.au/trib
 utes/notice/funeral-notices/de-vries-frans/6354542/)
END:VEVENT
END:VCALENDAR
