BEGIN:VCALENDAR
BEGIN:VEVENT
SUMMARY:Funeral notice for TRINIDAD\, Ines Eulalia
DTSTART:20260423T000000
DTEND:20260424T000000
DTSTAMP:20260421T033634Z
UID:6354549
DESCRIPTION:For the Funeral time and location details\, please view the no
 tice on the My Tributes site. (https://www.yarrawongachronicle.com.au/trib
 utes/notice/funeral-notices/trinidad-ines-eulalia/6354549/)
END:VEVENT
END:VCALENDAR
