BEGIN:VCALENDAR
BEGIN:VEVENT
SUMMARY:Funeral notice for HAMBLING\, Ken
DTSTART:20260424T000000
DTEND:20260425T000000
DTSTAMP:20260420T141442Z
UID:6354555
DESCRIPTION:For the Funeral time and location details\, please view the no
 tice on the My Tributes site. (https://www.yarrawongachronicle.com.au/trib
 utes/notice/funeral-notices/hambling-ken/6354555/)
END:VEVENT
END:VCALENDAR
