BEGIN:VCALENDAR
BEGIN:VEVENT
SUMMARY:Funeral notice for WRIGHT\, Judith Irene
DTSTART:20260421T000000
DTEND:20260422T000000
DTSTAMP:20260420T030634Z
UID:6354609
DESCRIPTION:For the Funeral time and location details\, please view the no
 tice on the My Tributes site. (https://www.yarrawongachronicle.com.au/trib
 utes/notice/funeral-notices/wright-judith-irene/6354609/)
END:VEVENT
END:VCALENDAR
