BEGIN:VCALENDAR
BEGIN:VEVENT
SUMMARY:Funeral notice for BALANDA\, Robert John "ROB"
DTSTART:20260429T000000
DTEND:20260430T000000
DTSTAMP:20260419T222228Z
UID:6354614
DESCRIPTION:For the Funeral time and location details\, please view the no
 tice on the My Tributes site. (https://www.yarrawongachronicle.com.au/trib
 utes/notice/funeral-notices/balanda-robert-john-rob/6354614/)
END:VEVENT
END:VCALENDAR
