BEGIN:VCALENDAR
BEGIN:VEVENT
SUMMARY:Funeral notice for MITCHELL\, Michael David
DTSTART:20260428T000000
DTEND:20260429T000000
DTSTAMP:20260422T083101Z
UID:6354640
DESCRIPTION:For the Funeral time and location details\, please view the no
 tice on the My Tributes site. (https://www.yarrawongachronicle.com.au/trib
 utes/notice/funeral-notices/mitchell-michael-david/6354640/)
END:VEVENT
END:VCALENDAR
