BEGIN:VCALENDAR
BEGIN:VEVENT
SUMMARY:Funeral notice for RUEHLAND\, Jennifer Coral
DTSTART:20260424T000000
DTEND:20260425T000000
DTSTAMP:20260422T005415Z
UID:6354648
DESCRIPTION:For the Funeral time and location details\, please view the no
 tice on the My Tributes site. (https://www.yarrawongachronicle.com.au/trib
 utes/notice/funeral-notices/ruehland-jennifer-coral/6354648/)
END:VEVENT
END:VCALENDAR
