BEGIN:VCALENDAR
BEGIN:VEVENT
SUMMARY:Funeral notice for ROBERTS\, Christine Mary
DTSTART:20260424T000000
DTEND:20260425T000000
DTSTAMP:20260422T114234Z
UID:6354725
DESCRIPTION:For the Funeral time and location details\, please view the no
 tice on the My Tributes site. (https://www.yarrawongachronicle.com.au/trib
 utes/notice/funeral-notices/roberts-christine-mary/6354725/)
END:VEVENT
END:VCALENDAR
