BEGIN:VCALENDAR
BEGIN:VEVENT
SUMMARY:Funeral notice for PETKOVSKI\, Traice
DTSTART:20260422T000000
DTEND:20260423T000000
DTSTAMP:20260420T154757Z
UID:6354730
DESCRIPTION:For the Funeral time and location details\, please view the no
 tice on the My Tributes site. (https://www.yarrawongachronicle.com.au/trib
 utes/notice/funeral-notices/petkovski-traice/6354730/)
END:VEVENT
END:VCALENDAR
