BEGIN:VCALENDAR
BEGIN:VEVENT
SUMMARY:Funeral notice for KEMP\, Raymond (Ray) Walter
DTSTART:20260423T000000
DTEND:20260424T000000
DTSTAMP:20260421T042644Z
UID:6354737
DESCRIPTION:For the Funeral time and location details\, please view the no
 tice on the My Tributes site. (https://www.yarrawongachronicle.com.au/trib
 utes/notice/funeral-notices/kemp-raymond-ray-walter/6354737/)
END:VEVENT
END:VCALENDAR
