BEGIN:VCALENDAR
BEGIN:VEVENT
SUMMARY:Funeral notice for SYTEMA (NEE LINTENBRINK)\, Christine Tineke
DTSTART:20260424T000000
DTEND:20260425T000000
DTSTAMP:20260420T105203Z
UID:6354766
DESCRIPTION:For the Funeral time and location details\, please view the no
 tice on the My Tributes site. (https://www.yarrawongachronicle.com.au/trib
 utes/notice/funeral-notices/sytema-christine-tineke/6354766/)
END:VEVENT
END:VCALENDAR
