BEGIN:VCALENDAR
BEGIN:VEVENT
SUMMARY:Funeral notice for WAIT\, Nora Ellen
DTSTART:20260423T000000
DTEND:20260424T000000
DTSTAMP:20260420T044908Z
UID:6354784
DESCRIPTION:For the Funeral time and location details\, please view the no
 tice on the My Tributes site. (https://www.yarrawongachronicle.com.au/trib
 utes/notice/funeral-notices/wait-nora-ellen/6354784/)
END:VEVENT
END:VCALENDAR
