BEGIN:VCALENDAR
BEGIN:VEVENT
SUMMARY:Funeral notice for CICCARELLO\, Nicolina
DTSTART:20260423T000000
DTEND:20260424T000000
DTSTAMP:20260420T154549Z
UID:6354807
DESCRIPTION:For the Funeral time and location details\, please view the no
 tice on the My Tributes site. (https://www.yarrawongachronicle.com.au/trib
 utes/notice/funeral-notices/ciccarello-nicolina/6354807/)
END:VEVENT
END:VCALENDAR
