BEGIN:VCALENDAR
BEGIN:VEVENT
SUMMARY:Funeral notice for PEGOLI (NEE ALLEGREZZA)\, Cesira
DTSTART:20260423T000000
DTEND:20260424T000000
DTSTAMP:20260421T202316Z
UID:6354837
DESCRIPTION:For the Funeral time and location details\, please view the no
 tice on the My Tributes site. (https://www.yarrawongachronicle.com.au/trib
 utes/notice/funeral-notices/pegoli-nee-allegrezza-cesira/6354837/)
END:VEVENT
END:VCALENDAR
