BEGIN:VCALENDAR
BEGIN:VEVENT
SUMMARY:Funeral notice for NOLAN\, Brian Joseph
DTSTART:20260420T000000
DTEND:20260421T000000
DTSTAMP:20260421T042745Z
UID:6354838
DESCRIPTION:For the Funeral time and location details\, please view the no
 tice on the My Tributes site. (https://www.yarrawongachronicle.com.au/trib
 utes/notice/funeral-notices/nolan-brian-joseph/6354838/)
END:VEVENT
END:VCALENDAR
