BEGIN:VCALENDAR
BEGIN:VEVENT
SUMMARY:Funeral notice for WEBSTER\, Sydney Mervyn
DTSTART:20260424T000000
DTEND:20260425T000000
DTSTAMP:20260426T142847Z
UID:6354839
DESCRIPTION:For the Funeral time and location details\, please view the no
 tice on the My Tributes site. (https://www.yarrawongachronicle.com.au/trib
 utes/notice/funeral-notices/webster-sydney-mervyn/6354839/)
END:VEVENT
END:VCALENDAR
