BEGIN:VCALENDAR
BEGIN:VEVENT
SUMMARY:Funeral notice for PAVLOVIC\, Javorka
DTSTART:20260421T000000
DTEND:20260422T000000
DTSTAMP:20260420T093250Z
UID:6354856
DESCRIPTION:For the Funeral time and location details\, please view the no
 tice on the My Tributes site. (https://www.yarrawongachronicle.com.au/trib
 utes/notice/funeral-notices/pavlovic-javorka/6354856/)
END:VEVENT
END:VCALENDAR
