BEGIN:VCALENDAR
BEGIN:VEVENT
SUMMARY:Funeral notice for KUBANK (NEE AUCHTERLONIE)\, Alma
DTSTART:20260421T000000
DTEND:20260422T000000
DTSTAMP:20260421T195640Z
UID:6354865
DESCRIPTION:For the Funeral time and location details\, please view the no
 tice on the My Tributes site. (https://www.yarrawongachronicle.com.au/trib
 utes/notice/funeral-notices/kubank-nee-auchterlonie-alma/6354865/)
END:VEVENT
END:VCALENDAR
