BEGIN:VCALENDAR
BEGIN:VEVENT
SUMMARY:Funeral notice for PENDER\, Edward
DTSTART:20260429T000000
DTEND:20260430T000000
DTSTAMP:20260421T211831Z
UID:6354902
DESCRIPTION:For the Funeral time and location details\, please view the no
 tice on the My Tributes site. (https://www.yarrawongachronicle.com.au/trib
 utes/notice/funeral-notices/pender-edward/6354902/)
END:VEVENT
END:VCALENDAR
