BEGIN:VCALENDAR
BEGIN:VEVENT
SUMMARY:Funeral notice for MCCABE\, Brian Gerard
DTSTART:20260423T000000
DTEND:20260424T000000
DTSTAMP:20260420T074038Z
UID:6354906
DESCRIPTION:For the Funeral time and location details\, please view the no
 tice on the My Tributes site. (https://www.yarrawongachronicle.com.au/trib
 utes/notice/funeral-notices/mccabe-brian-gerard/6354906/)
END:VEVENT
END:VCALENDAR
