BEGIN:VCALENDAR
BEGIN:VEVENT
SUMMARY:Funeral notice for IHLOW\, Patricia Claire
DTSTART:20260423T000000
DTEND:20260424T000000
DTSTAMP:20260423T072649Z
UID:6354919
DESCRIPTION:For the Funeral time and location details\, please view the no
 tice on the My Tributes site. (https://www.yarrawongachronicle.com.au/trib
 utes/notice/funeral-notices/ihlow-patricia-claire/6354919/)
END:VEVENT
END:VCALENDAR
